BEGIN:VCALENDAR
VERSION:2.0
PRODID:-//Vujicsics Tihamér AMI - ECPv6.15.20//NONSGML v1.0//EN
CALSCALE:GREGORIAN
METHOD:PUBLISH
X-WR-CALNAME:Vujicsics Tihamér AMI
X-ORIGINAL-URL:https://vujicsics.net
X-WR-CALDESC:Események Vujicsics Tihamér AMI
REFRESH-INTERVAL;VALUE=DURATION:PT1H
X-Robots-Tag:noindex
X-PUBLISHED-TTL:PT1H
BEGIN:VTIMEZONE
TZID:UTC
BEGIN:STANDARD
TZOFFSETFROM:+0000
TZOFFSETTO:+0000
TZNAME:UTC
DTSTART:20170101T000000
END:STANDARD
END:VTIMEZONE
BEGIN:VEVENT
DTSTART;TZID=UTC:20210201T150000
DTEND;TZID=UTC:20210201T160000
DTSTAMP:20260425T221923
CREATED:20210209T045634Z
LAST-MODIFIED:20210209T045634Z
UID:4390-1612191600-1612195200@vujicsics.net
SUMMARY:Fuvola tanszaki koncert /Kovács Zsuzsanna/
DESCRIPTION:
URL:https://vujicsics.net/esemeny/fuvola-tanszaki-koncert-kovacs-zsuzsanna/
LOCATION:Vujicsics Tihamér Zeneiskola Oltai Adrienne terem\, Duna korzó 16.\, Szentendre\, Pest\, 2000\, Magyarország
CATEGORIES:Tanszaki koncertek
END:VEVENT
BEGIN:VEVENT
DTSTART;TZID=UTC:20210128T150000
DTEND;TZID=UTC:20210128T170000
DTSTAMP:20260425T221923
CREATED:20210208T095007Z
LAST-MODIFIED:20210208T095007Z
UID:4385-1611846000-1611853200@vujicsics.net
SUMMARY:Fuvola tanszaki vizsgák /Bajánné Babics Nóra\, Czifra Gergő\, Kádár Krisztina/
DESCRIPTION:
URL:https://vujicsics.net/esemeny/fuvola-tanszaki-vizsgak-bajanne-babics-nora-czifra-gergo-kadar-krisztina/
CATEGORIES:Tanszaki koncertek
END:VEVENT
BEGIN:VEVENT
DTSTART;TZID=UTC:20210127T160000
DTEND;TZID=UTC:20210127T190000
DTSTAMP:20260425T221923
CREATED:20210208T094843Z
LAST-MODIFIED:20210208T094843Z
UID:4383-1611763200-1611774000@vujicsics.net
SUMMARY:Hegedű tanszaki vizsgák /Nagy Márta\, Pap Angéla/
DESCRIPTION:zongorakísérő: Lozsányi Soma
URL:https://vujicsics.net/esemeny/hegedu-tanszaki-vizsgak-nagy-marta-pap-angela/
LOCATION:Vujicsics Tihamér Zeneiskola Oltai Adrienne terem\, Duna korzó 16.\, Szentendre\, Pest\, 2000\, Magyarország
CATEGORIES:Tanszaki koncertek
END:VEVENT
BEGIN:VEVENT
DTSTART;TZID=UTC:20210127T140000
DTEND;TZID=UTC:20210127T160000
DTSTAMP:20260425T221923
CREATED:20210208T094604Z
LAST-MODIFIED:20210208T094604Z
UID:4381-1611756000-1611763200@vujicsics.net
SUMMARY:Fuvola tanszaki koncert /Laárné Szaniszló Éva\, Storcz Laura/
DESCRIPTION:Zongorakísérő: Lozsányi Soma
URL:https://vujicsics.net/esemeny/fuvola-tanszaki-koncert-laarne-szaniszlo-eva-storcz-laura/
LOCATION:Vujicsics Tihamér Zeneiskola Oltai Adrienne terem\, Duna korzó 16.\, Szentendre\, Pest\, 2000\, Magyarország
CATEGORIES:Tanszaki koncertek
END:VEVENT
BEGIN:VEVENT
DTSTART;TZID=UTC:20210125T150000
DTEND;TZID=UTC:20210125T170000
DTSTAMP:20260425T221923
CREATED:20210208T094228Z
LAST-MODIFIED:20210208T094228Z
UID:4377-1611586800-1611594000@vujicsics.net
SUMMARY:Brodmann Tamás tanszaki koncert
DESCRIPTION:
URL:https://vujicsics.net/esemeny/brodmann-tamas-tanszaki-koncert/
LOCATION:Swietelsky-terem\, Duna korzó 25.\, Szentendre\, 2000
CATEGORIES:Tanszaki koncertek
END:VEVENT
BEGIN:VEVENT
DTSTART;TZID=UTC:20210125T140000
DTEND;TZID=UTC:20210125T190000
DTSTAMP:20260425T221923
CREATED:20210208T094338Z
LAST-MODIFIED:20210208T094426Z
UID:4379-1611583200-1611601200@vujicsics.net
SUMMARY:Gordonka tanszaki koncert /Bittsánszkyné Egri Márta\, Gombos Arikán\, Négyessy Katalin/
DESCRIPTION:
URL:https://vujicsics.net/esemeny/gordonka-tanszaki-koncert-bittsanszkyne-egri-marta-gombos-arikan-negyessy-katalin/
LOCATION:Vujicsics Tihamér Zeneiskola Oltai Adrienne terem\, Duna korzó 16.\, Szentendre\, Pest\, 2000\, Magyarország
CATEGORIES:Tanszaki koncertek
END:VEVENT
BEGIN:VEVENT
DTSTART;TZID=UTC:20210120T080000
DTEND;TZID=UTC:20210120T170000
DTSTAMP:20260425T221923
CREATED:20210208T093748Z
LAST-MODIFIED:20210208T093748Z
UID:4375-1611129600-1611162000@vujicsics.net
SUMMARY:Népzene tanszaki koncert /Eredics Gábor\, Koller Dániel és Dömény Krisztián/
DESCRIPTION:
URL:https://vujicsics.net/esemeny/nepzene-tanszaki-koncert-eredics-gabor-koller-daniel-es-domeny-krisztian/
LOCATION:Vujicsics Tihamér Zeneiskola Oltai Adrienne terem\, Duna korzó 16.\, Szentendre\, Pest\, 2000\, Magyarország
CATEGORIES:Tanszaki koncertek
END:VEVENT
BEGIN:VEVENT
DTSTART;TZID=UTC:20210119T170000
DTEND;TZID=UTC:20210119T190000
DTSTAMP:20260425T221923
CREATED:20210208T093614Z
LAST-MODIFIED:20210208T093614Z
UID:4373-1611075600-1611082800@vujicsics.net
SUMMARY:Népzene tanszaki koncert /Tímár Sára és Sasvári Borbála/
DESCRIPTION:
URL:https://vujicsics.net/esemeny/nepzene-tanszaki-koncert-timar-sara-es-sasvari-borbala/
LOCATION:Vujicsics Tihamér Zeneiskola Oltai Adrienne terem\, Duna korzó 16.\, Szentendre\, Pest\, 2000\, Magyarország
CATEGORIES:Tanszaki koncertek
END:VEVENT
BEGIN:VEVENT
DTSTART;TZID=UTC:20210116T100000
DTEND;TZID=UTC:20210116T120000
DTSTAMP:20260425T221923
CREATED:20210208T093314Z
LAST-MODIFIED:20210208T093314Z
UID:4371-1610791200-1610798400@vujicsics.net
SUMMARY:Demeniv Mihály tanszaki koncert
DESCRIPTION:
URL:https://vujicsics.net/esemeny/demeniv-mihaly-tanszaki-koncert/
LOCATION:Vujicsics Tihamér Zeneiskola Oltai Adrienne terem\, Duna korzó 16.\, Szentendre\, Pest\, 2000\, Magyarország
CATEGORIES:Tanszaki koncertek
END:VEVENT
BEGIN:VEVENT
DTSTART;TZID=UTC:20191218T180000
DTEND;TZID=UTC:20191218T193000
DTSTAMP:20260425T221923
CREATED:20191211T092936Z
LAST-MODIFIED:20191211T093122Z
UID:3609-1576692000-1576697400@vujicsics.net
SUMMARY:Hornyák Krisztina és Holló Judit tanszaki koncertje
DESCRIPTION:
URL:https://vujicsics.net/esemeny/hornyak-krisztina-es-hollo-judit-tanszaki-koncert/
LOCATION:Swietelsky-terem\, Duna korzó 25.\, Szentendre\, 2000
CATEGORIES:Rendezvények,Tanszaki koncertek
END:VEVENT
BEGIN:VEVENT
DTSTART;TZID=UTC:20191218T180000
DTEND;TZID=UTC:20191218T193000
DTSTAMP:20260425T221923
CREATED:20191211T075343Z
LAST-MODIFIED:20191211T075606Z
UID:3597-1576692000-1576697400@vujicsics.net
SUMMARY:Bártfai Zoltán tanszaki koncert
DESCRIPTION:
URL:https://vujicsics.net/esemeny/bartfai-zoltan-tanszaki-koncert-4-terem/
CATEGORIES:Rendezvények,Tanszaki koncertek
END:VEVENT
BEGIN:VEVENT
DTSTART;TZID=UTC:20191218T180000
DTEND;TZID=UTC:20191218T193000
DTSTAMP:20260425T221923
CREATED:20191211T074914Z
LAST-MODIFIED:20191211T074914Z
UID:3595-1576692000-1576697400@vujicsics.net
SUMMARY:Baczkóné Tari Tina tanszaki koncert
DESCRIPTION:
URL:https://vujicsics.net/esemeny/baczkone-tari-tina-tanszaki-koncert/
CATEGORIES:Rendezvények,Tanszaki koncertek
END:VEVENT
BEGIN:VEVENT
DTSTART;TZID=UTC:20191217T180000
DTEND;TZID=UTC:20191217T193000
DTSTAMP:20260425T221923
CREATED:20191211T074724Z
LAST-MODIFIED:20191211T074724Z
UID:3593-1576605600-1576611000@vujicsics.net
SUMMARY:Majtényi Eszter tanszaki koncert
DESCRIPTION:
URL:https://vujicsics.net/esemeny/majtenyi-eszter-tanszaki-koncert/
CATEGORIES:Rendezvények,Tanszaki koncertek
END:VEVENT
BEGIN:VEVENT
DTSTART;TZID=UTC:20191217T170000
DTEND;TZID=UTC:20191217T180000
DTSTAMP:20260425T221923
CREATED:20191211T092626Z
LAST-MODIFIED:20191211T092626Z
UID:3607-1576602000-1576605600@vujicsics.net
SUMMARY:Kulcsár Máté tanszaki koncert
DESCRIPTION:
URL:https://vujicsics.net/esemeny/kulcsar-mate-tanszaki-koncert/
LOCATION:Swietelsky-terem\, Duna korzó 25.\, Szentendre\, 2000
CATEGORIES:Rendezvények,Tanszaki koncertek
END:VEVENT
BEGIN:VEVENT
DTSTART;TZID=UTC:20191216T180000
DTEND;TZID=UTC:20191216T193000
DTSTAMP:20260425T221923
CREATED:20191211T081453Z
LAST-MODIFIED:20191211T081453Z
UID:3605-1576519200-1576524600@vujicsics.net
SUMMARY:Oláh Indira tanszaki koncert
DESCRIPTION:
URL:https://vujicsics.net/esemeny/olah-indira-tanszaki-koncert/
CATEGORIES:Rendezvények,Tanszaki koncertek
END:VEVENT
BEGIN:VEVENT
DTSTART;TZID=UTC:20191216T180000
DTEND;TZID=UTC:20191216T193000
DTSTAMP:20260425T221923
CREATED:20191211T074610Z
LAST-MODIFIED:20191211T074610Z
UID:3591-1576519200-1576524600@vujicsics.net
SUMMARY:Orbánné László Hajnalka tanszaki koncert
DESCRIPTION:
URL:https://vujicsics.net/esemeny/orbanne-laszlo-hajnalka-tanszaki-koncert/
CATEGORIES:Rendezvények,Tanszaki koncertek
END:VEVENT
BEGIN:VEVENT
DTSTART;TZID=UTC:20191214T160000
DTEND;TZID=UTC:20191214T173000
DTSTAMP:20260425T221923
CREATED:20191211T080041Z
LAST-MODIFIED:20191211T080041Z
UID:3603-1576339200-1576344600@vujicsics.net
SUMMARY:Laárné Szaniszló Éva tanszaki koncertje
DESCRIPTION:
URL:https://vujicsics.net/esemeny/laarne-szaniszlo-eva-tanszaki-koncertje/
CATEGORIES:Rendezvények,Tanszaki koncertek
END:VEVENT
BEGIN:VEVENT
DTSTART;TZID=UTC:20191213T180000
DTEND;TZID=UTC:20191213T193000
DTSTAMP:20260425T221923
CREATED:20191211T075909Z
LAST-MODIFIED:20191211T075909Z
UID:3600-1576260000-1576265400@vujicsics.net
SUMMARY:Kulcsár Máté és Guti Krisztina koncertje
DESCRIPTION:
URL:https://vujicsics.net/esemeny/kulcsar-mate-es-guti-krisztina-koncertje/
LOCATION:Swietelsky-terem\, Duna korzó 25.\, Szentendre\, 2000
CATEGORIES:Rendezvények
END:VEVENT
BEGIN:VEVENT
DTSTART;TZID=UTC:20191213T180000
DTEND;TZID=UTC:20191213T193000
DTSTAMP:20260425T221923
CREATED:20191211T072608Z
LAST-MODIFIED:20191211T072608Z
UID:3589-1576260000-1576265400@vujicsics.net
SUMMARY:Tóth Judit tanszaki koncert
DESCRIPTION:
URL:https://vujicsics.net/esemeny/toth-judit-tanszaki-koncert/
CATEGORIES:Rendezvények,Tanszaki koncertek
END:VEVENT
BEGIN:VEVENT
DTSTART;TZID=UTC:20191212T180000
DTEND;TZID=UTC:20191212T193000
DTSTAMP:20260425T221923
CREATED:20191211T072446Z
LAST-MODIFIED:20191211T074518Z
UID:3587-1576173600-1576179000@vujicsics.net
SUMMARY:Forrai Judit tanszaki koncert
DESCRIPTION:
URL:https://vujicsics.net/esemeny/forrai-judit-tanszaki-koncert/
CATEGORIES:Rendezvények,Tanszaki koncertek
END:VEVENT
BEGIN:VEVENT
DTSTART;TZID=UTC:20191210T180000
DTEND;TZID=UTC:20191210T193000
DTSTAMP:20260425T221923
CREATED:20191211T072322Z
LAST-MODIFIED:20191211T072322Z
UID:3585-1576000800-1576006200@vujicsics.net
SUMMARY:Richter Annamária tanszaki koncert
DESCRIPTION:
URL:https://vujicsics.net/esemeny/richter-annamaria-tanszaki-koncert/
CATEGORIES:Rendezvények,Tanszaki koncertek
END:VEVENT
BEGIN:VEVENT
DTSTART;TZID=UTC:20191209T180000
DTEND;TZID=UTC:20191209T193000
DTSTAMP:20260425T221923
CREATED:20191211T072208Z
LAST-MODIFIED:20191211T072208Z
UID:3583-1575914400-1575919800@vujicsics.net
SUMMARY:Völgyesi Zsuzsa tanszaki koncert
DESCRIPTION:
URL:https://vujicsics.net/esemeny/volgyesi-zsuzsa-tanszaki-koncert/
CATEGORIES:Rendezvények,Tanszaki koncertek
END:VEVENT
BEGIN:VEVENT
DTSTART;TZID=UTC:20191206T180000
DTEND;TZID=UTC:20191206T193000
DTSTAMP:20260425T221923
CREATED:20191211T071900Z
LAST-MODIFIED:20191211T071900Z
UID:3581-1575655200-1575660600@vujicsics.net
SUMMARY:Kontra Leila tanszaki koncert
DESCRIPTION:
URL:https://vujicsics.net/esemeny/kontra-leila-tanszaki-koncert/
CATEGORIES:Rendezvények,Tanszaki koncertek
END:VEVENT
BEGIN:VEVENT
DTSTART;TZID=UTC:20191205T180000
DTEND;TZID=UTC:20191205T193000
DTSTAMP:20260425T221923
CREATED:20191211T070940Z
LAST-MODIFIED:20191211T070940Z
UID:3579-1575568800-1575574200@vujicsics.net
SUMMARY:Gaál Natália tanszaki koncert
DESCRIPTION:
URL:https://vujicsics.net/esemeny/gaal-natalia-tanszaki-koncert/
CATEGORIES:Rendezvények,Tanszaki koncertek
END:VEVENT
BEGIN:VEVENT
DTSTART;TZID=UTC:20191203T180000
DTEND;TZID=UTC:20191203T193000
DTSTAMP:20260425T221923
CREATED:20191211T070751Z
LAST-MODIFIED:20191211T071055Z
UID:3577-1575396000-1575401400@vujicsics.net
SUMMARY:Csizmadia Angelika tanszaki koncert
DESCRIPTION:
URL:https://vujicsics.net/esemeny/csizmadia-angelika-tanszaki-koncert/
CATEGORIES:Rendezvények,Tanszaki koncertek
END:VEVENT
BEGIN:VEVENT
DTSTART;TZID=UTC:20181206T180000
DTEND;TZID=UTC:20181206T200000
DTSTAMP:20260425T221923
CREATED:20181205T110703Z
LAST-MODIFIED:20181205T111408Z
UID:2992-1544119200-1544126400@vujicsics.net
SUMMARY:Gaál Natália zongora tanszaki koncertje
DESCRIPTION:Szeretettel várunk minden kedves érdeklődőt a Vujicsics Tihamér Zeneiskola\, Oltai Adrienne termében megrendezésre kerülő zongora tanszaki hangversenyre. \nTanár: Gaál Natália\nIdőpont: 2018.december 6. csütörtök\, 18 óra
URL:https://vujicsics.net/esemeny/gaal-natalia-zongora-tanszaki-koncertje/
END:VEVENT
BEGIN:VEVENT
DTSTART;TZID=UTC:20181204T180000
DTEND;TZID=UTC:20181204T200000
DTSTAMP:20260425T221923
CREATED:20181205T105815Z
LAST-MODIFIED:20181205T110453Z
UID:2987-1543946400-1543953600@vujicsics.net
SUMMARY:Csizmadia Angelika csembaló és zongora tanszaki koncert
DESCRIPTION:Szeretettel várunk minden kedves érdeklődőt a Vujicsics Tihamér Zeneiskola\, Oltai Adrienne termében megrendezésre kerülő zongora- és csembaló tanszaki hangversenyre. \nTanár: Csizmadia Angelika\nIdőpont: 2018.december 4. kedd\, 18 óra
URL:https://vujicsics.net/esemeny/csizmadia-angelika-csembalo-es-zongora-tanszaki-koncert/
CATEGORIES:Tanszaki koncertek
END:VEVENT
BEGIN:VEVENT
DTSTART;TZID=UTC:20181201T150000
DTEND;TZID=UTC:20181201T180000
DTSTAMP:20260425T221923
CREATED:20181126T112437Z
LAST-MODIFIED:20181126T112740Z
UID:2876-1543676400-1543687200@vujicsics.net
SUMMARY:Vonós tanszak - Adventi koncert
DESCRIPTION:Szeretettel várunk minden kedves érdeklődőt Adventi Koncertünkre\,\namit 2018. december 1-én\, szombaton 15 órai kezdettel tartunk a zeneiskola Oltai-termében. \nA koncerten bemutatkoznak a vonós tanszak legifjabb növendékei és a Manózenekar. \nMindenkit szeretettel várunk!
URL:https://vujicsics.net/esemeny/vonos-tanszak-adventi-koncert/
CATEGORIES:Tanszaki koncertek
ATTACH;FMTTYPE=image/jpeg:https://vujicsics.net/wp-content/uploads/2018/11/Adventi-koncert-vonós-tanszak.jpg
END:VEVENT
BEGIN:VEVENT
DTSTART;TZID=UTC:20180427T080000
DTEND;TZID=UTC:20180429T170000
DTSTAMP:20260425T221923
CREATED:20180416T033352Z
LAST-MODIFIED:20180416T033352Z
UID:2304-1524816000-1525021200@vujicsics.net
SUMMARY:Orbán György + Zongoraverseny
DESCRIPTION:A szentendrei Vujicsics Tihamér Alapfokú Művészeti Iskola 2018. április 27-29 között megrendezi az Orbán György+ Zongoraversenyt.\nA versenyen Magyarország és a határon túli alapfokú művészeti iskolák növendékei szerepelnek.\nA verseny fővédnöke: Bogányi Gergely Kossuth-díjas zongoraművész \nII.  Orbán+ Nemzetközi Zongoraverseny
URL:https://vujicsics.net/esemeny/orban-gyorgy-zongoraverseny/
LOCATION:Vujicsics Tihamér Zeneiskola Oltai Adrienne terem\, Duna korzó 16.\, Szentendre\, Pest\, 2000\, Magyarország
CATEGORIES:Versenyek
END:VEVENT
BEGIN:VEVENT
DTSTART;TZID=UTC:20180417T180000
DTEND;TZID=UTC:20180417T193000
DTSTAMP:20260425T221923
CREATED:20180416T033626Z
LAST-MODIFIED:20180416T033626Z
UID:2307-1523988000-1523993400@vujicsics.net
SUMMARY:Verseny felkészítő koncert
DESCRIPTION:Szeretettel hívjuk és várjuk az érdeklődőket az Orbán György Zongoraversenyre készülő növendékeink koncertjére\, 2018. április 17-én kedden 18.00 órára a zeneiskola Oltai Adrienne termébe. \n Műsorfüzet 
URL:https://vujicsics.net/esemeny/verseny-felkeszito-koncert/
LOCATION:Vujicsics Tihamér Zeneiskola Oltai Adrienne terem\, Duna korzó 16.\, Szentendre\, Pest\, 2000\, Magyarország
CATEGORIES:Tanszaki koncertek
END:VEVENT
END:VCALENDAR