BEGIN:VCALENDAR
VERSION:2.0
PRODID:-//Vujicsics Tihamér AMI - ECPv6.15.20//NONSGML v1.0//EN
CALSCALE:GREGORIAN
METHOD:PUBLISH
X-WR-CALNAME:Vujicsics Tihamér AMI
X-ORIGINAL-URL:https://vujicsics.net
X-WR-CALDESC:Események Vujicsics Tihamér AMI
REFRESH-INTERVAL;VALUE=DURATION:PT1H
X-Robots-Tag:noindex
X-PUBLISHED-TTL:PT1H
BEGIN:VTIMEZONE
TZID:UTC
BEGIN:STANDARD
TZOFFSETFROM:+0000
TZOFFSETTO:+0000
TZNAME:UTC
DTSTART:20150101T000000
END:STANDARD
END:VTIMEZONE
BEGIN:VEVENT
DTSTART;TZID=UTC:20160530T160000
DTEND;TZID=UTC:20160530T170000
DTSTAMP:20260426T031112
CREATED:20160508T060216Z
LAST-MODIFIED:20160526T133654Z
UID:517-1464624000-1464627600@vujicsics.net
SUMMARY:Kovács Zsuzsanna osztályának vizsgaelőadása
DESCRIPTION:Sok szeretettel meghívunk minden kedves érdeklődőt az év végi vizsga koncertünkre\n        \n            \n              \n                \n                Műsorunk:\n                \n              \n            \n            \n               \n\nFrend Anna Mirjam ek2.\nHaydn: Arietta\,\nGunning&Pearce: Szlovák tánc\nNagy Eszter 1.o\nGyerekdal\,\nDolzsikov: Polka\nSzabó Eszter 1.o\nHaydn: Szerenád\,\nKronke: Momento giocoso\nLengyel Anna 2.o\nGossec: Gavotte\nBényei Bíborka 2.o\nHändel: Bourèe\nLengyel Réka 4.o\nPopp: Spanyol tánc\nLengyel Luca 6.o\nMarcello: F-Dúr szonáta III-II.\,\nPopp: Valse Gracieuse\n\n\n            \n        \nZongorán közreműködik: László Hajnalka\nMűsorfüzet
URL:https://vujicsics.net/esemeny/kovacs-zsuzsanna-vizsgaeloadas/
LOCATION:Vujicsics Tihamér Zeneiskola Oltai Adrienne terem\, Duna korzó 16.\, Szentendre\, Pest\, 2000\, Magyarország
CATEGORIES:Vizsgák
END:VEVENT
BEGIN:VEVENT
DTSTART;TZID=UTC:20160530T150000
DTEND;TZID=UTC:20160530T160000
DTSTAMP:20260426T031112
CREATED:20160508T055657Z
LAST-MODIFIED:20160525T111545Z
UID:516-1464620400-1464624000@vujicsics.net
SUMMARY:Dúzs Gabriella osztályának vizsgaelőadása
DESCRIPTION:Sok szeretettel meghívunk minden kedves érdeklődőt az év végi vizsga koncertünkre\n        \n            \n              \n                \n                Műsorunk:\n                \n              \n            \n            \n               \n\nLéránt Anna Furulya ek. 1.\nAllemande\, Cantio Polonica\nNagy Johanna Furulya ek. 1.\nCanarie\nBódogh Edina Furulya ek. 2.\nLenaratás\, Parasztinduló (duó Dálnoki Lujzával)\nDálnoki Lujza Furulya ek. 2.\nPavane\nMaczik Lilla Gerda Furulya 1. o.\nA banyának három lába…\nBransle de la Royne (duó T. Fannival) \nTannert Fanni Furulya 3. o.\nSailor’s Hornpipe (skót népdal)\nVígh Dávid Áron Fagott 1. o.\nGraham Sheen: Hungarian Folk song\nKászonyi Patrik Fagott 2. o.\nGraham Sheen: Rondo\nŐri Hajnalka Fagottínó 2. o.\nDulzian\nRudan Kinga Fagott 2. o.\nA kassai szőlőhegyen…\nKászonyi Matild Fagott 3. o.\nG. F. Telemann: Gavotte\nÖtvös Abigél Lilla Fagott 3.\nA kis Virtuóz\n\n\n            \n        \nZongorán közreműködik: Mihály Renáta
URL:https://vujicsics.net/esemeny/duzs-gabriella-vizsgaeloadas/
LOCATION:Vujicsics Tihamér Zeneiskola Oltai Adrienne terem\, Duna korzó 16.\, Szentendre\, Pest\, 2000\, Magyarország
CATEGORIES:Vizsgák
END:VEVENT
END:VCALENDAR